BEGIN:VCALENDAR
VERSION:2.0
PRODID:-//Nicole Gibson - ECPv4.9.13//NONSGML v1.0//EN
CALSCALE:GREGORIAN
METHOD:PUBLISH
X-WR-CALNAME:Nicole Gibson
X-ORIGINAL-URL:https://www.nicolegibson.com.au
X-WR-CALDESC:Events for Nicole Gibson
BEGIN:VTIMEZONE
TZID:Australia/Brisbane
BEGIN:STANDARD
TZOFFSETFROM:+1000
TZOFFSETTO:+1000
TZNAME:AEST
DTSTART:20190101T000000
END:STANDARD
END:VTIMEZONE
BEGIN:VEVENT
DTSTART;TZID=Australia/Brisbane:20190613T150000
DTEND;TZID=Australia/Brisbane:20190616T140000
DTSTAMP:20200301T105504
CREATED:20190305T053938Z
LAST-MODIFIED:20190305T053938Z
UID:2406-1560438000-1560693600@www.nicolegibson.com.au
SUMMARY:Love Out Loud Retreat June 2019
DESCRIPTION:Dive deep into your psyche\, and come on a journey of experiential facilitation designed to unleash the love inside of you and help you connect to your higher purpose. \nJust an hours drive from the Gold Coast airport\, the retreat will take place over 4 days at Gymea Eco Retreat\, located in Uki at the base of MT Warning\, on sacred land with a stunning landscape. \n
URL:https://www.nicolegibson.com.au/event/love-out-loud-retreat-june-2019/
LOCATION:Gymea Eco Retreat\, 128 Bonnydoon Rd\, Uki\, NSW\, 2484\, Australia
CATEGORIES:Retreat
ATTACH;FMTTYPE=image/png:https://www.nicolegibson.com.au/wp-content/uploads/2019/03/Screen-Shot-2019-03-04-at-15.05.55.png
END:VEVENT
END:VCALENDAR